BEGIN:VCALENDAR
VERSION:2.0
PRODID:-//Conseil Local FCPE du collège André Malraux - ECPv6.15.20//NONSGML v1.0//EN
CALSCALE:GREGORIAN
METHOD:PUBLISH
X-WR-CALNAME:Conseil Local FCPE du collège André Malraux
X-ORIGINAL-URL:https://fcpecollegemalraux.fr
X-WR-CALDESC:Évènements pour Conseil Local FCPE du collège André Malraux
REFRESH-INTERVAL;VALUE=DURATION:PT1H
X-Robots-Tag:noindex
X-PUBLISHED-TTL:PT1H
BEGIN:VTIMEZONE
TZID:Europe/Helsinki
BEGIN:DAYLIGHT
TZOFFSETFROM:+0200
TZOFFSETTO:+0300
TZNAME:EEST
DTSTART:20140330T010000
END:DAYLIGHT
BEGIN:STANDARD
TZOFFSETFROM:+0300
TZOFFSETTO:+0200
TZNAME:EET
DTSTART:20141026T010000
END:STANDARD
BEGIN:DAYLIGHT
TZOFFSETFROM:+0200
TZOFFSETTO:+0300
TZNAME:EEST
DTSTART:20150329T010000
END:DAYLIGHT
BEGIN:STANDARD
TZOFFSETFROM:+0300
TZOFFSETTO:+0200
TZNAME:EET
DTSTART:20151025T010000
END:STANDARD
BEGIN:DAYLIGHT
TZOFFSETFROM:+0200
TZOFFSETTO:+0300
TZNAME:EEST
DTSTART:20160327T010000
END:DAYLIGHT
BEGIN:STANDARD
TZOFFSETFROM:+0300
TZOFFSETTO:+0200
TZNAME:EET
DTSTART:20161030T010000
END:STANDARD
BEGIN:DAYLIGHT
TZOFFSETFROM:+0200
TZOFFSETTO:+0300
TZNAME:EEST
DTSTART:20170326T010000
END:DAYLIGHT
BEGIN:STANDARD
TZOFFSETFROM:+0300
TZOFFSETTO:+0200
TZNAME:EET
DTSTART:20171029T010000
END:STANDARD
END:VTIMEZONE
BEGIN:VEVENT
DTSTART;TZID=Europe/Helsinki:20160414T173000
DTEND;TZID=Europe/Helsinki:20160414T213000
DTSTAMP:20260423T021849
CREATED:20160331T160509Z
LAST-MODIFIED:20160331T160832Z
UID:385-1460655000-1460669400@fcpecollegemalraux.fr
SUMMARY:Commission Hygiène et Sécurité
DESCRIPTION:La Commission Hygiène et Sécurité (CHS) du collège  aura lieu le 14 avril à 17:30 \nElle portera sur les sujets suivants: \n\nProchain exercice de PPMS\nPrésentation des accidents et statistiques de passage à l’infirmerie\n Visite des locaux\n\nSi vous avez des questions ou des remarques concernant cette commission\, n’hésitez à contacter vos élus via notre formulaire de contact
URL:https://fcpecollegemalraux.fr/event/commission-hygiene-et-securite/
LOCATION:Collège A. Malraux\, 1 Avenue de Karben\, Ramonville Saint Agne\, 31520\, France
CATEGORIES:Commissions
END:VEVENT
BEGIN:VEVENT
DTSTART;TZID=Europe/Helsinki:20151217T173000
DTEND;TZID=Europe/Helsinki:20151217T193000
DTSTAMP:20260423T021849
CREATED:20151120T101209Z
LAST-MODIFIED:20151120T101209Z
UID:218-1450373400-1450380600@fcpecollegemalraux.fr
SUMMARY:Rencontres parents professeurs niveau 3ème
DESCRIPTION:Dates et modalités des réunions parents professeurs du 1er trimestre
URL:https://fcpecollegemalraux.fr/event/rencontres-parents-professeurs-niveau-3eme/
LOCATION:Collège A. Malraux\, 1 Avenue de Karben\, Ramonville Saint Agne\, 31520\, France
CATEGORIES:Rencontres Parents-Professeurs
END:VEVENT
BEGIN:VEVENT
DTSTART;TZID=Europe/Helsinki:20151215T173000
DTEND;TZID=Europe/Helsinki:20151215T193000
DTSTAMP:20260423T021849
CREATED:20151120T101050Z
LAST-MODIFIED:20151120T101050Z
UID:217-1450200600-1450207800@fcpecollegemalraux.fr
SUMMARY:Rencontres parents professeurs niveau 4ème
DESCRIPTION:Dates et modalités des réunions parents professeurs du 1er trimestre \n 
URL:https://fcpecollegemalraux.fr/event/rencontres-parents-professeurs-niveau-4eme/
LOCATION:Collège A. Malraux\, 1 Avenue de Karben\, Ramonville Saint Agne\, 31520\, France
CATEGORIES:Rencontres Parents-Professeurs
END:VEVENT
BEGIN:VEVENT
DTSTART;TZID=Europe/Helsinki:20151214T173000
DTEND;TZID=Europe/Helsinki:20151214T193000
DTSTAMP:20260423T021849
CREATED:20151120T100935Z
LAST-MODIFIED:20151120T100935Z
UID:216-1450114200-1450121400@fcpecollegemalraux.fr
SUMMARY:Rencontres parents professeurs niveau 6ème
DESCRIPTION:Dates et modalités des réunions parents professeurs du 1er trimestre
URL:https://fcpecollegemalraux.fr/event/rencontres-parents-professeurs-niveau-6eme/
LOCATION:Collège A. Malraux\, 1 Avenue de Karben\, Ramonville Saint Agne\, 31520\, France
CATEGORIES:Rencontres Parents-Professeurs
END:VEVENT
BEGIN:VEVENT
DTSTART;TZID=Europe/Helsinki:20151210T130000
DTEND;TZID=Europe/Helsinki:20151210T140000
DTSTAMP:20260423T021849
CREATED:20151129T221253Z
LAST-MODIFIED:20151129T221253Z
UID:223-1449752400-1449756000@fcpecollegemalraux.fr
SUMMARY:Comité Education Santé Citoyenneté (CESC)
DESCRIPTION:Ordre du jour: \nActions 2015-2016
URL:https://fcpecollegemalraux.fr/event/comite-education-sante-citoyennete-cesc/
LOCATION:Collège A. Malraux\, 1 Avenue de Karben\, Ramonville Saint Agne\, 31520\, France
CATEGORIES:Commissions
END:VEVENT
BEGIN:VEVENT
DTSTART;VALUE=DATE:20151130
DTEND;VALUE=DATE:20151209
DTSTAMP:20260423T021849
CREATED:20151113T234721Z
LAST-MODIFIED:20151116T155117Z
UID:187-1448841600-1449619199@fcpecollegemalraux.fr
SUMMARY:Conseils de classes du 1er trimestre
DESCRIPTION:Les conseils de classe du 1er trimestre auront lieu du 30 novembre au 8 décembre. \nConseils-de-classe-2015-2016-trimestre1-planning-modifié-au-13-11-2015.pdf \nConseils de classe SEGPA \nVous pouvez contacter les  parents délégués en utilisant le formulaire prévu à cet effet
URL:https://fcpecollegemalraux.fr/event/conseils-de-classes-du-1er-trimestre/
LOCATION:Collège A. Malraux\, 1 Avenue de Karben\, Ramonville Saint Agne\, 31520\, France
CATEGORIES:Conseils de classe
END:VEVENT
END:VCALENDAR